BEGIN:VCALENDAR
VERSION:2.0
PRODID:-//ODCCW - ECPv6.15.15//NONSGML v1.0//EN
CALSCALE:GREGORIAN
METHOD:PUBLISH
X-WR-CALNAME:ODCCW
X-ORIGINAL-URL:https://www.odccw.org
X-WR-CALDESC:Events for ODCCW
REFRESH-INTERVAL;VALUE=DURATION:PT1H
X-Robots-Tag:noindex
X-PUBLISHED-TTL:PT1H
BEGIN:VTIMEZONE
TZID:America/Los_Angeles
BEGIN:DAYLIGHT
TZOFFSETFROM:-0800
TZOFFSETTO:-0700
TZNAME:PDT
DTSTART:20220313T100000
END:DAYLIGHT
BEGIN:STANDARD
TZOFFSETFROM:-0700
TZOFFSETTO:-0800
TZNAME:PST
DTSTART:20221106T090000
END:STANDARD
BEGIN:DAYLIGHT
TZOFFSETFROM:-0800
TZOFFSETTO:-0700
TZNAME:PDT
DTSTART:20230312T100000
END:DAYLIGHT
BEGIN:STANDARD
TZOFFSETFROM:-0700
TZOFFSETTO:-0800
TZNAME:PST
DTSTART:20231105T090000
END:STANDARD
BEGIN:DAYLIGHT
TZOFFSETFROM:-0800
TZOFFSETTO:-0700
TZNAME:PDT
DTSTART:20240310T100000
END:DAYLIGHT
BEGIN:STANDARD
TZOFFSETFROM:-0700
TZOFFSETTO:-0800
TZNAME:PST
DTSTART:20241103T090000
END:STANDARD
END:VTIMEZONE
BEGIN:VEVENT
DTSTART;TZID=America/Los_Angeles:20230117T080000
DTEND;TZID=America/Los_Angeles:20230117T121500
DTSTAMP:20260420T111914
CREATED:20220930T212606Z
LAST-MODIFIED:20230111T050417Z
UID:2705-1673942400-1673957700@www.odccw.org
SUMMARY:Jan 17 2023 General Gathering
DESCRIPTION:Please join us for our Monthly General Gathering:\nDate: January 17\, 2023\nTime: 8am – 12:15pm\nLocation: St. Thomas More\, 51 Market St\, Irvine\, CA 92602 \nSpeaker: Fr. Eugene Lee\, Pastor of STM Parish\nTopic:  “Reverence Enhances Our Relationship With Christ” \nSchedule:\n8:00am Mass followed by the Rosary\n9:00 – 9:30am Registration\, continental breakfast and fellowship\n10:00am Keynote Speaker – Father Eugene Lee\n11:15am Lunch\n12:15pm  Dismissal \nDonation:\n$25 (Includes Continental Breakfast & Lunch) \nRegistration:\nREGISTRATION REQUIRED.  NO REGISTRATION AT THE DOOR. \nIMPORTANT – After online registration\, please check your email for your ticket. TICKET MUST BE PRINTED AND PRESENTED AT CHECK-IN. \nTo register and pay by mail or onsite\, please contact Susan Navarrete by email at snavarrete150@gmail.com or by phone (949) 345-9130. \nODCCW is partnering with the Life Center of Santa Ana to ask for your generous donations of diapers\, wipes or baby items. No donation is too small. Please bring all donations to the General Gathering. God bless you!
URL:https://www.odccw.org/event/011723-general-gathering/
LOCATION:St. Thomas More Catholic Parish\, 51 Market St.\, Irvine\, CA\, 92602\, United States
END:VEVENT
END:VCALENDAR