BEGIN:VCALENDAR
VERSION:2.0
PRODID:-//ODCCW - ECPv6.15.15//NONSGML v1.0//EN
CALSCALE:GREGORIAN
METHOD:PUBLISH
X-ORIGINAL-URL:https://www.odccw.org
X-WR-CALDESC:Events for ODCCW
REFRESH-INTERVAL;VALUE=DURATION:PT1H
X-Robots-Tag:noindex
X-PUBLISHED-TTL:PT1H
BEGIN:VTIMEZONE
TZID:America/Los_Angeles
BEGIN:DAYLIGHT
TZOFFSETFROM:-0800
TZOFFSETTO:-0700
TZNAME:PDT
DTSTART:20220313T100000
END:DAYLIGHT
BEGIN:STANDARD
TZOFFSETFROM:-0700
TZOFFSETTO:-0800
TZNAME:PST
DTSTART:20221106T090000
END:STANDARD
BEGIN:DAYLIGHT
TZOFFSETFROM:-0800
TZOFFSETTO:-0700
TZNAME:PDT
DTSTART:20230312T100000
END:DAYLIGHT
BEGIN:STANDARD
TZOFFSETFROM:-0700
TZOFFSETTO:-0800
TZNAME:PST
DTSTART:20231105T090000
END:STANDARD
BEGIN:DAYLIGHT
TZOFFSETFROM:-0800
TZOFFSETTO:-0700
TZNAME:PDT
DTSTART:20240310T100000
END:DAYLIGHT
BEGIN:STANDARD
TZOFFSETFROM:-0700
TZOFFSETTO:-0800
TZNAME:PST
DTSTART:20241103T090000
END:STANDARD
END:VTIMEZONE
BEGIN:VEVENT
DTSTART;VALUE=DATE:20230221
DTEND;VALUE=DATE:20230222
DTSTAMP:20260424T083918
CREATED:20220930T212832Z
LAST-MODIFIED:20230204T013752Z
UID:2707-1676937600-1677023999@www.odccw.org
SUMMARY:Feb 21 2023 General Gathering
DESCRIPTION:Please join us for our Monthly General Gathering:\nDate: Tuesday\, February 21\, 2023\nTime: 8:30am\nLocation: St. Timothy Catholic Church\, 29102 Crown Valley Pkwy\, Laguna Niguel\, CA 92677 \nSpeaker: Fr. Patrick Moses\nTopic: Lent \nSchedule:\n8:30am Mass followed by registration and continental breakfast \nDonation:\n$25 (Includes Continental Breakfast & Lunch) \nRegistration:\nREGISTRATION REQUIRED.  NO REGISTRATION AT THE DOOR. \nIMPORTANT – After online registration\, please check your email for your ticket. TICKET MUST BE PRINTED AND PRESENTED AT CHECK-IN. \nTo register and pay by mail or onsite\, please contact Susan Navarrete by email at snavarrete150@gmail.com or by phone (949) 345-9130.
URL:https://www.odccw.org/event/022123-general-gathering/
LOCATION:St. Timothy\, 29102 Crown Valley Pkwy\, Laguna Niguel\, CA\, 92677\, United States
END:VEVENT
END:VCALENDAR